BEGIN:VCALENDAR
VERSION:2.0
PRODID:-//Shawii Kitchen - ECPv6.15.18//NONSGML v1.0//EN
CALSCALE:GREGORIAN
METHOD:PUBLISH
X-ORIGINAL-URL:https://www.shawiikitchen.com
X-WR-CALDESC:Events for Shawii Kitchen
REFRESH-INTERVAL;VALUE=DURATION:PT1H
X-Robots-Tag:noindex
X-PUBLISHED-TTL:PT1H
BEGIN:VTIMEZONE
TZID:UTC
BEGIN:STANDARD
TZOFFSETFROM:+0000
TZOFFSETTO:+0000
TZNAME:UTC
DTSTART:20250101T000000
END:STANDARD
END:VTIMEZONE
BEGIN:VEVENT
DTSTART;TZID=UTC:20260327T160000
DTEND;TZID=UTC:20260327T200000
DTSTAMP:20260421T102654
CREATED:20260306T164405Z
LAST-MODIFIED:20260310T212026Z
UID:10000268-1774627200-1774641600@www.shawiikitchen.com
SUMMARY:Hot Rod Car Show
DESCRIPTION:DESCRIPTION\nRev up for a Hot Rod Car Show at Native Oaks. Check out our impressive lineup of classic cars\, custom hot rods\, and timeless favorites while enjoying food\, drinks\, and a lively community atmosphere. \nVendors: Rise and Brew Coffee \nTime\nFriday\, March 27\, 2026 (4:00 PM – 8:00 PM) \nRegister\n\nFree for public \nContact rstehly@nativeoaksgolfclub.com to become a vendor or to bring your classic car \nView Cars\nViking Exotics & Classics \nRat Rods Instagram
URL:https://www.shawiikitchen.com/event/hot-rod-car-show/
LOCATION:Native Oaks Golf Club\, 14616 Woods Valley Rd\, Valley Center\, 92082\, United States
ATTACH;FMTTYPE=image/png:https://www.shawiikitchen.com/wp-content/uploads/sites/9134/2026/03/Your-paragraph-text-4.png
END:VEVENT
END:VCALENDAR